BEGIN:VCALENDAR
VERSION:2.0
PRODID:-//Nawagee - ECPv6.15.20//NONSGML v1.0//EN
CALSCALE:GREGORIAN
METHOD:PUBLISH
X-ORIGINAL-URL:https://www.nawagee.at
X-WR-CALDESC:Veranstaltungen für Nawagee
REFRESH-INTERVAL;VALUE=DURATION:PT1H
X-Robots-Tag:noindex
X-PUBLISHED-TTL:PT1H
BEGIN:VTIMEZONE
TZID:Europe/Vienna
BEGIN:DAYLIGHT
TZOFFSETFROM:+0100
TZOFFSETTO:+0200
TZNAME:CEST
DTSTART:20240331T010000
END:DAYLIGHT
BEGIN:STANDARD
TZOFFSETFROM:+0200
TZOFFSETTO:+0100
TZNAME:CET
DTSTART:20241027T010000
END:STANDARD
BEGIN:DAYLIGHT
TZOFFSETFROM:+0100
TZOFFSETTO:+0200
TZNAME:CEST
DTSTART:20250330T010000
END:DAYLIGHT
BEGIN:STANDARD
TZOFFSETFROM:+0200
TZOFFSETTO:+0100
TZNAME:CET
DTSTART:20251026T010000
END:STANDARD
BEGIN:DAYLIGHT
TZOFFSETFROM:+0100
TZOFFSETTO:+0200
TZNAME:CEST
DTSTART:20260329T010000
END:DAYLIGHT
BEGIN:STANDARD
TZOFFSETFROM:+0200
TZOFFSETTO:+0100
TZNAME:CET
DTSTART:20261025T010000
END:STANDARD
END:VTIMEZONE
BEGIN:VEVENT
DTSTART;TZID=Europe/Vienna:20250601T133000
DTEND;TZID=Europe/Vienna:20250601T180000
DTSTAMP:20260424T192242
CREATED:20240825T183409Z
LAST-MODIFIED:20250506T193404Z
UID:2658-1748784600-1748800800@www.nawagee.at
SUMMARY:Selfbondage - Workshop
DESCRIPTION:Hast du Lust\, die faszinierende Welt des Selfbondage zu entdecken? \nAn sich ist Shibari etwas\, das man als Paar betreibt. Aber! Die Welt des Selfbondage ist eine ganz eigene Welt. Man kann das eine nicht mit dem anderen vergleichen. \nUnd: Sollte mal kein Rigger vorhanden sein – macht man einfach Selfbondage! \nIn unserem Workshop bieten wir dir die Möglichkeit\, die Kunst des Selfbondage sicher und ästhetisch zu erlernen. Egal\, ob du neu in der Szene bist oder deine Kenntnisse vertiefen möchtest – hier findest du die perfekte Balance zwischen Technik und Kreativität. \nErlebe die Freiheit im Spiel mit den Seilen und finde deinen ganz persönlichen Stil. Gemeinsam schaffen wir einen Raum voller Respekt und Vertrauen\, in dem du dich entfalten kannst. \nTauche ein in dieses besondere Erlebnis und melde dich jetzt an! \nVorkenntnisse: Keine \nDauer: 13:30 – 18h \nDresscode: Sportbekleidung\, kein Bügel BH \nPREIS: €120.-  \nStornobedingungen:\nBis 14 Tage vor dem Kurs kostenfreie Stornierung\nBis 7 Tage vor dem Kurs 50% Stornogebühr\nDanach ist eine Rückerstattung nicht mehr möglich. \nZUR ANMELDUNG
URL:https://www.nawagee.at/event/selfbondage-workshop/
LOCATION:Nawagee\, Viehdorf\, Niederösterreich\, 3322\, Österreich
CATEGORIES:Kurs
ATTACH;FMTTYPE=image/png:https://www.nawagee.at/wp-content/uploads/2024/08/selfbondage.png
ORGANIZER;CN="Nawagee":MAILTO:kontakt(at)nawagee.at
END:VEVENT
END:VCALENDAR